BEGIN:VCALENDAR
CALSCALE:GREGORIAN
VERSION:2.0
METHOD:PUBLISH 
X-WR-CALNAME:
BEGIN:VEVENT
DTSTART;TZID=Europe/Paris:20261118T200000
DTEND;TZID=Europe/Paris:20261118T210000
SUMMARY:Akim Omiri - Contexte - Tournée
CATEGORIE:Spectacles et théâtre
GEO:50.53079479449400;2.64246820730300
LOCATION:Théâtre de Béthune\, Boulevard Victor Hugo\, 62400 Béthune\, France
URL:https://www.fest.fr/e/2307337
UID:2307337-1@fest.fr
END:VEVENT
END:VCALENDAR
