BEGIN:VCALENDAR
CALSCALE:GREGORIAN
VERSION:2.0
METHOD:PUBLISH 
X-WR-CALNAME:
BEGIN:VEVENT
DTSTART;TZID=Europe/Paris:20251123T150000
DTEND;TZID=Europe/Paris:20251123T160000
SUMMARY:Concert de l'Avent
CATEGORIE:Concerts et Musique
GEO:47.83193998371934;7.30236067774079
LOCATION:Salle polyvalente\, 5 rue de Mulhouse\, 68840 Pulversheim\, France
URL:https://www.fest.fr/e/2306750
UID:2306750-1@fest.fr
END:VEVENT
END:VCALENDAR
