BEGIN:VCALENDAR
CALSCALE:GREGORIAN
VERSION:2.0
METHOD:PUBLISH 
X-WR-CALNAME:
BEGIN:VEVENT
DTSTART;TZID=Europe/Paris:20260307T110000
DTEND;TZID=Europe/Paris:20260307T120000
SUMMARY:Concours d'éloquence : "J'ai des choses à dire" (Lorient)
CATEGORIE:Jeux et Concours
GEO:47.74825240000000;-3.37024490000000
LOCATION:Lieu à définir\, 56100 Lorient\, France
URL:https://www.fest.fr/e/2305663
UID:2305663-1@fest.fr
END:VEVENT
BEGIN:VEVENT
DTSTART;TZID=Europe/Paris:20260426T110000
DTEND;TZID=Europe/Paris:20260426T120000
SUMMARY:Concours d'éloquence : "J'ai des choses à dire" (Lorient)
CATEGORIE:Jeux et Concours
GEO:47.74825240000000;-3.37024490000000
LOCATION:Lieu à définir\, 56100 Lorient\, France
URL:https://www.fest.fr/e/2305663
UID:2305663-2@fest.fr
END:VEVENT
END:VCALENDAR
