BEGIN:VCALENDAR
CALSCALE:GREGORIAN
VERSION:2.0
METHOD:PUBLISH 
X-WR-CALNAME:
BEGIN:VEVENT
DTSTART;TZID=Europe/Paris:20260415T203000
DTEND;TZID=Europe/Paris:20260415T213000
SUMMARY:Lili EM  En Concert
CATEGORIE:Concerts et musique
LOCATION:Le Solo\, 138, Boulevard Richard Lenoir\, 75011 Paris 11e\, France
URL:https://www.fest.fr/e/2304957
UID:2304957-1@fest.fr
END:VEVENT
END:VCALENDAR
