BEGIN:VCALENDAR
CALSCALE:GREGORIAN
VERSION:2.0
METHOD:PUBLISH 
X-WR-CALNAME:
BEGIN:VEVENT
DTSTART;TZID=Europe/Paris:20260221T203000
DTEND;TZID=Europe/Paris:20260221T213000
SUMMARY:Christelle Chollet - 20 ans déjà
CATEGORIE:Spectacles et théâtre
LOCATION:Théâtre Claude Debussy - Palais des Arts et du Festival\, 2 bd Wilson\, 35800 Dinard\, France
URL:https://www.fest.fr/e/2304882
UID:2304882-1@fest.fr
END:VEVENT
END:VCALENDAR
