BEGIN:VCALENDAR
CALSCALE:GREGORIAN
VERSION:2.0
METHOD:PUBLISH 
X-WR-CALNAME:
BEGIN:VEVENT
DTSTART;TZID=Europe/Paris:20260830T083000
DTEND;TZID=Europe/Paris:20260830T093000
SUMMARY:Vide-greniers de l'Amicale Laïque
CATEGORIE:Brocantes, Bourses et Vide-Greniers
GEO:48.25606851849900;-1.51712524890900
LOCATION:Bourg d'Ercé-Près-Liffré\, Rue de Fougères, place de l'église et rue de l'illet\, 35340 Ercé-près-Liffré\, France
URL:https://www.fest.fr/e/2302561
UID:2302561-1@fest.fr
END:VEVENT
END:VCALENDAR
