BEGIN:VCALENDAR
CALSCALE:GREGORIAN
VERSION:2.0
METHOD:PUBLISH 
X-WR-CALNAME:
BEGIN:VEVENT
DTSTART;TZID=Europe/Paris:20260412T160000
DTEND;TZID=Europe/Paris:20260412T170000
SUMMARY:Booder - Ah... L'Ecole ! - Tournée
CATEGORIE:Spectacles et théâtre
GEO:48.64056804873500;2.32834973349000
LOCATION:Salle Gérard Philipe\, Rue Marc Sangnier\, 91700 Sainte-Geneviève-des-Bois\, France
URL:https://www.fest.fr/e/2302395
UID:2302395-1@fest.fr
END:VEVENT
END:VCALENDAR
