BEGIN:VCALENDAR
CALSCALE:GREGORIAN
VERSION:2.0
METHOD:PUBLISH 
X-WR-CALNAME:
BEGIN:VEVENT
DTSTART;TZID=Europe/Paris:20260324T200000
DTEND;TZID=Europe/Paris:20260324T210000
SUMMARY:T.C.H.E.K.H.O.V. - Compagnie Grand Tigre
CATEGORIE:Spectacles et théâtre
LOCATION:SALLE LE GALET\, 35 av. du Pont de l'Orient\, 33600 Pessac\, France
URL:https://www.fest.fr/e/2299736
UID:2299736-1@fest.fr
END:VEVENT
END:VCALENDAR
