BEGIN:VCALENDAR
CALSCALE:GREGORIAN
VERSION:2.0
METHOD:PUBLISH 
X-WR-CALNAME:
BEGIN:VEVENT
DTSTART;TZID=Europe/Paris:20260415T100000
DTEND;TZID=Europe/Paris:20260415T110000
SUMMARY:Découverte et dégustation de plantes sauvages comestibles
CATEGORIE:Randonnées et balades
GEO:47.40338080000000;0.77032910000000
LOCATION:Ile de la Métairie\, 37700 La Ville-aux-Dames\, France
URL:https://www.fest.fr/e/2295833
UID:2295833-1@fest.fr
END:VEVENT
END:VCALENDAR
