BEGIN:VCALENDAR
CALSCALE:GREGORIAN
VERSION:2.0
METHOD:PUBLISH 
X-WR-CALNAME:
BEGIN:VEVENT
DTSTART;TZID=Europe/Paris:20270320T203000
DTEND;TZID=Europe/Paris:20270320T213000
SUMMARY:Putain de Renaud - Pas un Hommage, une Révérence !
CATEGORIE:Concerts et musique
GEO:48.08208507878600;-0.79185575084600
LOCATION:Espace Mayenne\, 2, rue Joséphine Baker\, 53000 Laval\, France
URL:https://www.fest.fr/e/2295587
UID:2295587-1@fest.fr
END:VEVENT
END:VCALENDAR
