BEGIN:VCALENDAR
CALSCALE:GREGORIAN
VERSION:2.0
METHOD:PUBLISH 
X-WR-CALNAME:
BEGIN:VEVENT
DTSTART;TZID=Europe/Paris:20251122T203000
DTEND;TZID=Europe/Paris:20251122T213000
SUMMARY:Montevergine et Kantaliso - Italie
CATEGORIE:Concerts et musique
GEO:48.82756790000000;2.34505280000000
LOCATION:Théâtre Mandapa\, 6 Rue Wurtz\, 75013 Paris 13e\, France
URL:https://www.fest.fr/e/2295100
UID:2295100-1@fest.fr
END:VEVENT
END:VCALENDAR
