BEGIN:VCALENDAR
CALSCALE:GREGORIAN
VERSION:2.0
METHOD:PUBLISH 
X-WR-CALNAME:
BEGIN:VEVENT
DTSTART;TZID=Europe/Paris:20251220T203000
DTEND;TZID=Europe/Paris:20251220T213000
SUMMARY:Post-it, par la cie Sépafo
CATEGORIE:Spectacles et Théâtre
LOCATION:Quart'ney\, 6-8 Rue duboys\, 49000 Angers\, France
URL:https://www.fest.fr/e/2294611
UID:2294611-1@fest.fr
END:VEVENT
END:VCALENDAR
