BEGIN:VCALENDAR
CALSCALE:GREGORIAN
VERSION:2.0
METHOD:PUBLISH 
X-WR-CALNAME:
BEGIN:VEVENT
DTSTART;TZID=Europe/Paris:20261105T200000
DTEND;TZID=Europe/Paris:20261105T210000
SUMMARY:Christophe Maé - Tournée
CATEGORIE:Concerts et musique
GEO:48.10641757143400;-1.67672651986600
LOCATION:Le Liberté\, Esplanade du Général de Gaulle\, 35000 Rennes\, France
URL:https://www.fest.fr/e/2294508
UID:2294508-1@fest.fr
END:VEVENT
BEGIN:VEVENT
DTSTART;TZID=Europe/Paris:20270131T180000
DTEND;TZID=Europe/Paris:20270131T190000
SUMMARY:Christophe Maé - Tournée
CATEGORIE:Concerts et musique
GEO:48.10641757143400;-1.67672651986600
LOCATION:Le Liberté\, Esplanade du Général de Gaulle\, 35000 Rennes\, France
URL:https://www.fest.fr/e/2294508
UID:2294508-2@fest.fr
END:VEVENT
END:VCALENDAR
