BEGIN:VCALENDAR
CALSCALE:GREGORIAN
VERSION:2.0
METHOD:PUBLISH 
X-WR-CALNAME:
BEGIN:VEVENT
DTSTART;TZID=Europe/Paris:20260419T170000
DTEND;TZID=Europe/Paris:20260419T180000
SUMMARY:Libérée Divorcée - La Comédie de Grenoble, Grenoble
CATEGORIE:Spectacles et théâtre
GEO:45.18116047829200;5.71605140747900
LOCATION:Comédie de Grenoble\, 1 Rue Pierre Dupont\, 38000 Grenoble\, France
URL:https://www.fest.fr/e/2294440
UID:2294440-1@fest.fr
END:VEVENT
END:VCALENDAR
