BEGIN:VCALENDAR
CALSCALE:GREGORIAN
VERSION:2.0
METHOD:PUBLISH 
X-WR-CALNAME:
BEGIN:VEVENT
DTSTART;TZID=Europe/Paris:20260421T094500
DTEND;TZID=Europe/Paris:20260421T104500
SUMMARY:Randonnée fraîcheur à Tremblay
CATEGORIE:Randonnées et balades
GEO:48.42463900000000;-1.47632020000000
LOCATION:Avenue des Bois
Tremblay\, 35460 Val-Couesnon\, France
URL:https://www.fest.fr/e/2294020
UID:2294020-1@fest.fr
END:VEVENT
END:VCALENDAR
