BEGIN:VCALENDAR
CALSCALE:GREGORIAN
VERSION:2.0
METHOD:PUBLISH 
X-WR-CALNAME:
BEGIN:VEVENT
DTSTART;TZID=Europe/Paris:20260328T100000
DTEND;TZID=Europe/Paris:20260328T110000
SUMMARY:Exposition "Les 50 ans de Renault Sport"
CATEGORIE:Expositions, Visites et Découvertes
GEO:47.16241580000000;1.56047752000000
LOCATION:Musée de l'automobile\, 36600 Valençay\, France
URL:https://www.fest.fr/e/2292585
UID:2292585-1@fest.fr
END:VEVENT
BEGIN:VEVENT
DTSTART;TZID=Europe/Paris:20260328T140000
DTEND;TZID=Europe/Paris:20260328T150000
SUMMARY:Exposition "Les 50 ans de Renault Sport"
CATEGORIE:Expositions, Visites et Découvertes
GEO:47.16241580000000;1.56047752000000
LOCATION:Musée de l'automobile\, 36600 Valençay\, France
URL:https://www.fest.fr/e/2292585
UID:2292585-2@fest.fr
END:VEVENT
BEGIN:VEVENT
DTSTART;TZID=Europe/Paris:20260701T100000
DTEND;TZID=Europe/Paris:20260701T110000
SUMMARY:Exposition "Les 50 ans de Renault Sport"
CATEGORIE:Expositions, Visites et Découvertes
GEO:47.16241580000000;1.56047752000000
LOCATION:Musée de l'automobile\, 36600 Valençay\, France
URL:https://www.fest.fr/e/2292585
UID:2292585-3@fest.fr
END:VEVENT
BEGIN:VEVENT
DTSTART;TZID=Europe/Paris:20260701T133000
DTEND;TZID=Europe/Paris:20260701T143000
SUMMARY:Exposition "Les 50 ans de Renault Sport"
CATEGORIE:Expositions, Visites et Découvertes
GEO:47.16241580000000;1.56047752000000
LOCATION:Musée de l'automobile\, 36600 Valençay\, France
URL:https://www.fest.fr/e/2292585
UID:2292585-4@fest.fr
END:VEVENT
BEGIN:VEVENT
DTSTART;TZID=Europe/Paris:20260901T100000
DTEND;TZID=Europe/Paris:20260901T110000
SUMMARY:Exposition "Les 50 ans de Renault Sport"
CATEGORIE:Expositions, Visites et Découvertes
GEO:47.16241580000000;1.56047752000000
LOCATION:Musée de l'automobile\, 36600 Valençay\, France
URL:https://www.fest.fr/e/2292585
UID:2292585-5@fest.fr
END:VEVENT
BEGIN:VEVENT
DTSTART;TZID=Europe/Paris:20260901T140000
DTEND;TZID=Europe/Paris:20260901T150000
SUMMARY:Exposition "Les 50 ans de Renault Sport"
CATEGORIE:Expositions, Visites et Découvertes
GEO:47.16241580000000;1.56047752000000
LOCATION:Musée de l'automobile\, 36600 Valençay\, France
URL:https://www.fest.fr/e/2292585
UID:2292585-6@fest.fr
END:VEVENT
END:VCALENDAR
