BEGIN:VCALENDAR
CALSCALE:GREGORIAN
VERSION:2.0
METHOD:PUBLISH 
X-WR-CALNAME:
BEGIN:VEVENT
DTSTART;TZID=Europe/Paris:20270226T200000
DTEND;TZID=Europe/Paris:20270226T210000
SUMMARY:Michèle Laroque & Kad Merad - L'Âge Bête - Tournée
CATEGORIE:Spectacles et théâtre
GEO:47.22233552943400;5.98015271123300
LOCATION:Micropolis\, 3 Boulevard Ouest\, 25000 Besançon\, France
URL:https://www.fest.fr/e/2292337
UID:2292337-1@fest.fr
END:VEVENT
END:VCALENDAR
