BEGIN:VCALENDAR
CALSCALE:GREGORIAN
VERSION:2.0
METHOD:PUBLISH 
X-WR-CALNAME:
BEGIN:VEVENT
DTSTART;TZID=Europe/Paris:20270204T200000
DTEND;TZID=Europe/Paris:20270204T210000
SUMMARY:Michèle Laroque & Kad Merad - L'Âge Bête - Tournée
CATEGORIE:Spectacles et théâtre
GEO:45.58383052965300;5.89950552246900
LOCATION:Le Phare\, 800, av du Grand Ariétaz\, 73000 Chambéry\, France
URL:https://www.fest.fr/e/2292331
UID:2292331-1@fest.fr
END:VEVENT
END:VCALENDAR
