BEGIN:VCALENDAR
CALSCALE:GREGORIAN
VERSION:2.0
METHOD:PUBLISH 
X-WR-CALNAME:
BEGIN:VEVENT
DTSTART;TZID=Europe/Paris:20261211T200000
DTEND;TZID=Europe/Paris:20261211T210000
SUMMARY:Redouane Bougheraba - Mon Premier Spectacle - Tournée des Zénith
CATEGORIE:Spectacles et théâtre
GEO:49.16896027590200;-0.38326788687200
LOCATION:Zénith de Caen - Normandie\, Rue Joseph Philippon\, 14000 Caen\, France
URL:https://www.fest.fr/e/2292311
UID:2292311-1@fest.fr
END:VEVENT
END:VCALENDAR
