BEGIN:VCALENDAR
CALSCALE:GREGORIAN
VERSION:2.0
METHOD:PUBLISH 
X-WR-CALNAME:
BEGIN:VEVENT
DTSTART;TZID=Europe/Paris:20261025T173000
DTEND;TZID=Europe/Paris:20261025T183000
SUMMARY:Daniel Morin - En Rodage ( Tournée )
CATEGORIE:Spectacles et théâtre
GEO:48.14248687110500;-1.76982658316100
LOCATION:Le Ponant\, 2, boulevard Dumaine de la Josserie\, 35740 Pacé\, France
URL:https://www.fest.fr/e/2292274
UID:2292274-1@fest.fr
END:VEVENT
END:VCALENDAR
