BEGIN:VCALENDAR
CALSCALE:GREGORIAN
VERSION:2.0
METHOD:PUBLISH 
X-WR-CALNAME:
BEGIN:VEVENT
DTSTART;TZID=Europe/Paris:20260118T123456
DTEND;TZID=Europe/Paris:20260118T133456
SUMMARY:DANSE : "DANS LES YEUX D'AUDREY"
CATEGORIE:Spectacles et Théâtre
GEO:43.28795570000000;3.50801020000000
LOCATION:Rond-Point Carré d'as\, 34300 Agde\, France
URL:https://www.fest.fr/e/2291007
UID:2291007-1@fest.fr
END:VEVENT
END:VCALENDAR
