BEGIN:VCALENDAR
CALSCALE:GREGORIAN
VERSION:2.0
METHOD:PUBLISH 
X-WR-CALNAME:
BEGIN:VEVENT
DTSTART;TZID=Europe/Paris:20270115T200000
DTEND;TZID=Europe/Paris:20270115T210000
SUMMARY:Les Etoiles du Cirque de Pékin - Odyssée - Tournée
CATEGORIE:Spectacles et théâtre
GEO:49.89613492985500;2.27373330986300
LOCATION:Zénith Amiens Métropole\, 99 Bis Avenue de l’Hippodrome\, 80000 Amiens\, France
URL:https://www.fest.fr/e/2289044
UID:2289044-1@fest.fr
END:VEVENT
END:VCALENDAR
