BEGIN:VCALENDAR
CALSCALE:GREGORIAN
VERSION:2.0
METHOD:PUBLISH 
X-WR-CALNAME:
BEGIN:VEVENT
DTSTART;TZID=Europe/Paris:20260411T123456
DTEND;TZID=Europe/Paris:20260411T133456
SUMMARY:Les nouveaux sorciers
CATEGORIE:Fêtes et Animations
GEO:43.26949500000000;5.38953400000000
LOCATION:36 rue Negresko
Archange Théâtre\, 13008 Marseille 8e\, France
URL:https://www.fest.fr/e/2287903
UID:2287903-1@fest.fr
END:VEVENT
END:VCALENDAR
