BEGIN:VCALENDAR
CALSCALE:GREGORIAN
VERSION:2.0
METHOD:PUBLISH 
X-WR-CALNAME:
BEGIN:VEVENT
DTSTART;TZID=Europe/Paris:20270129T203000
DTEND;TZID=Europe/Paris:20270129T213000
SUMMARY:Keen'V  A nos 20 Ans - Tournée
CATEGORIE:Concerts et musique
GEO:46.85112795695200;1.71016636680400
LOCATION:M.A.CH 36\, Rue Eugène Viollet-Le-Duc\, 36130 Déols\, France
URL:https://www.fest.fr/e/2287043
UID:2287043-1@fest.fr
END:VEVENT
END:VCALENDAR
