BEGIN:VCALENDAR
CALSCALE:GREGORIAN
VERSION:2.0
METHOD:PUBLISH 
X-WR-CALNAME:
BEGIN:VEVENT
DTSTART;TZID=Europe/Paris:20260307T203000
DTEND;TZID=Europe/Paris:20260307T213000
SUMMARY:MIKE & RIKÉ
CATEGORIE:Spectacles et Théâtre
GEO:49.57588450000000;0.46981930000000
LOCATION:Route de Mirville\, 76210 Bolbec\, France
URL:https://www.fest.fr/e/2286368
UID:2286368-1@fest.fr
END:VEVENT
END:VCALENDAR
