BEGIN:VCALENDAR
CALSCALE:GREGORIAN
VERSION:2.0
METHOD:PUBLISH 
X-WR-CALNAME:
BEGIN:VEVENT
DTSTART;TZID=Europe/Paris:20260418T210000
DTEND;TZID=Europe/Paris:20260418T220000
SUMMARY:L.E.J - Tournée
CATEGORIE:Concerts et musique
GEO:45.79806697007000;4.84231058464200
LOCATION:Radiant-Bellevue\, 1, rue Jean Moulin\, 69300 Caluire-et-Cuire\, France
URL:https://www.fest.fr/e/2284075
UID:2284075-1@fest.fr
END:VEVENT
END:VCALENDAR
