BEGIN:VCALENDAR
CALSCALE:GREGORIAN
VERSION:2.0
METHOD:PUBLISH 
X-WR-CALNAME:
BEGIN:VEVENT
DTSTART;TZID=Europe/Paris:20260704T150000
DTEND;TZID=Europe/Paris:20260704T160000
SUMMARY:Conférence de Sarah Delage
CATEGORIE:Conférences, Forums et Débats
GEO:46.43371000000000;1.60443000000000
LOCATION:Route de Messant\, 36270 Éguzon-Chantôme\, France
URL:https://www.fest.fr/e/2281330
UID:2281330-1@fest.fr
END:VEVENT
END:VCALENDAR
