BEGIN:VCALENDAR
CALSCALE:GREGORIAN
VERSION:2.0
METHOD:PUBLISH 
X-WR-CALNAME:
BEGIN:VEVENT
DTSTART;TZID=Europe/Paris:20270219T203000
DTEND;TZID=Europe/Paris:20270219T213000
SUMMARY:Keen'V  A nos 20 Ans - Tournée
CATEGORIE:Concerts et musique
GEO:43.17927211280300;3.02277199906800
LOCATION:Narbonne Arena\, 74, av. Maître Hubert Mouly\, 11100 Narbonne\, France
URL:https://www.fest.fr/e/2279907
UID:2279907-1@fest.fr
END:VEVENT
END:VCALENDAR
