BEGIN:VCALENDAR
CALSCALE:GREGORIAN
VERSION:2.0
METHOD:PUBLISH 
X-WR-CALNAME:
BEGIN:VEVENT
DTSTART;TZID=Europe/Paris:20260526T200000
DTEND;TZID=Europe/Paris:20260526T210000
SUMMARY:Jam Jazz à l'Anthropo
CATEGORIE:Concerts et Musique
GEO:42.72018130000000;2.88764360000000
LOCATION:L'Anthropo\, 35 rue des rois de Majorque\, 66000 Perpignan\, France
URL:https://www.fest.fr/e/2279905
UID:2279905-1@fest.fr
END:VEVENT
END:VCALENDAR
