BEGIN:VCALENDAR
CALSCALE:GREGORIAN
VERSION:2.0
METHOD:PUBLISH 
X-WR-CALNAME:
BEGIN:VEVENT
DTSTART;TZID=Europe/Paris:20260621T180000
DTEND;TZID=Europe/Paris:20260621T190000
SUMMARY:Fête de la musique
CATEGORIE:Fêtes et Animations
GEO:48.76280240000000;7.94073380000000
LOCATION:Parvis du pôle culturel\, 2 rue du stade\, 67410 Drusenheim\, France
URL:https://www.fest.fr/e/2278491
UID:2278491-1@fest.fr
END:VEVENT
END:VCALENDAR
