BEGIN:VCALENDAR
CALSCALE:GREGORIAN
VERSION:2.0
METHOD:PUBLISH 
X-WR-CALNAME:
BEGIN:VEVENT
DTSTART;TZID=Europe/Paris:20260522T190000
DTEND;TZID=Europe/Paris:20260522T200000
SUMMARY:Soirée jeux de société et Loup-Garou
CATEGORIE:Jeux et Concours
GEO:48.76280240000000;7.94073380000000
LOCATION:Pôle culturel\, 2 rue du stade\, 67410 Drusenheim\, France
URL:https://www.fest.fr/e/2278474
UID:2278474-1@fest.fr
END:VEVENT
END:VCALENDAR
