BEGIN:VCALENDAR
CALSCALE:GREGORIAN
VERSION:2.0
METHOD:PUBLISH 
X-WR-CALNAME:
BEGIN:VEVENT
DTSTART;TZID=Europe/Paris:20260606T090000
DTEND;TZID=Europe/Paris:20260606T100000
SUMMARY:Marché : merkatia
CATEGORIE:Marchés, Foires et Salons
GEO:43.17910110000000;-1.34010660000000
LOCATION:Place du village\, 64430 Saint-Étienne-de-Baïgorry\, France
URL:https://www.fest.fr/e/2277964
UID:2277964-1@fest.fr
END:VEVENT
END:VCALENDAR
