BEGIN:VCALENDAR
CALSCALE:GREGORIAN
VERSION:2.0
METHOD:PUBLISH 
X-WR-CALNAME:
BEGIN:VEVENT
DTSTART;TZID=Europe/Paris:20260603T200000
DTEND;TZID=Europe/Paris:20260603T210000
SUMMARY:ONPL - John Williams en fanfare !
CATEGORIE:Spectacles et théâtre
GEO:47.21307708601300;-1.54279391930500
LOCATION:Cité des Congrès - Grand Auditorium\, 5, rue de Valmy\, 44000 Nantes\, France
URL:https://www.fest.fr/e/2276491
UID:2276491-1@fest.fr
END:VEVENT
END:VCALENDAR
