BEGIN:VCALENDAR
CALSCALE:GREGORIAN
VERSION:2.0
METHOD:PUBLISH 
X-WR-CALNAME:
BEGIN:VEVENT
DTSTART;TZID=Europe/Paris:20260426T193000
DTEND;TZID=Europe/Paris:20260426T203000
SUMMARY:A l'Aube - La Divine Comédie, Paris
CATEGORIE:Spectacles et théâtre
GEO:48.87436863857500;2.34452620286600
LOCATION:La Divine Comédie - Salle 1\, 2 rue Saulnier\, 75009 Paris 9e\, France
URL:https://www.fest.fr/e/2276414
UID:2276414-1@fest.fr
END:VEVENT
BEGIN:VEVENT
DTSTART;TZID=Europe/Paris:20260503T193000
DTEND;TZID=Europe/Paris:20260503T203000
SUMMARY:A l'Aube - La Divine Comédie, Paris
CATEGORIE:Spectacles et théâtre
GEO:48.87436863857500;2.34452620286600
LOCATION:La Divine Comédie - Salle 1\, 2 rue Saulnier\, 75009 Paris 9e\, France
URL:https://www.fest.fr/e/2276414
UID:2276414-2@fest.fr
END:VEVENT
BEGIN:VEVENT
DTSTART;TZID=Europe/Paris:20260510T193000
DTEND;TZID=Europe/Paris:20260510T203000
SUMMARY:A l'Aube - La Divine Comédie, Paris
CATEGORIE:Spectacles et théâtre
GEO:48.87436863857500;2.34452620286600
LOCATION:La Divine Comédie - Salle 1\, 2 rue Saulnier\, 75009 Paris 9e\, France
URL:https://www.fest.fr/e/2276414
UID:2276414-3@fest.fr
END:VEVENT
BEGIN:VEVENT
DTSTART;TZID=Europe/Paris:20260517T193000
DTEND;TZID=Europe/Paris:20260517T203000
SUMMARY:A l'Aube - La Divine Comédie, Paris
CATEGORIE:Spectacles et théâtre
GEO:48.87436863857500;2.34452620286600
LOCATION:La Divine Comédie - Salle 1\, 2 rue Saulnier\, 75009 Paris 9e\, France
URL:https://www.fest.fr/e/2276414
UID:2276414-4@fest.fr
END:VEVENT
BEGIN:VEVENT
DTSTART;TZID=Europe/Paris:20260524T193000
DTEND;TZID=Europe/Paris:20260524T203000
SUMMARY:A l'Aube - La Divine Comédie, Paris
CATEGORIE:Spectacles et théâtre
GEO:48.87436863857500;2.34452620286600
LOCATION:La Divine Comédie - Salle 1\, 2 rue Saulnier\, 75009 Paris 9e\, France
URL:https://www.fest.fr/e/2276414
UID:2276414-5@fest.fr
END:VEVENT
BEGIN:VEVENT
DTSTART;TZID=Europe/Paris:20260531T193000
DTEND;TZID=Europe/Paris:20260531T203000
SUMMARY:A l'Aube - La Divine Comédie, Paris
CATEGORIE:Spectacles et théâtre
GEO:48.87436863857500;2.34452620286600
LOCATION:La Divine Comédie - Salle 1\, 2 rue Saulnier\, 75009 Paris 9e\, France
URL:https://www.fest.fr/e/2276414
UID:2276414-6@fest.fr
END:VEVENT
END:VCALENDAR
