BEGIN:VCALENDAR
CALSCALE:GREGORIAN
VERSION:2.0
METHOD:PUBLISH 
X-WR-CALNAME:
BEGIN:VEVENT
DTSTART;TZID=Europe/Paris:20260522T203000
DTEND;TZID=Europe/Paris:20260522T213000
SUMMARY:Izo Fitzroy (Tournée)
CATEGORIE:Concerts et musique
GEO:49.51825139004400;0.53244104004700
LOCATION:Centre Culturel Juliobona\, Place de Coubertin\, 76170 Lillebonne\, France
URL:https://www.fest.fr/e/2274008
UID:2274008-1@fest.fr
END:VEVENT
END:VCALENDAR
