BEGIN:VCALENDAR
CALSCALE:GREGORIAN
VERSION:2.0
METHOD:PUBLISH 
X-WR-CALNAME:
BEGIN:VEVENT
DTSTART;TZID=Europe/Paris:20260606T093000
DTEND;TZID=Europe/Paris:20260606T103000
SUMMARY:Stage découverte de la Marqueterie
CATEGORIE:Stages, Ateliers et Initiations
LOCATION:Atelier Corinne Garcia Marqueterie\, 6, place du Terrail\, 81380 Lescure-d'Albigeois\, France
URL:https://www.fest.fr/e/2272362
UID:2272362-1@fest.fr
END:VEVENT
BEGIN:VEVENT
DTSTART;TZID=Europe/Paris:20260607T093000
DTEND;TZID=Europe/Paris:20260607T103000
SUMMARY:Stage découverte de la Marqueterie
CATEGORIE:Stages, Ateliers et Initiations
LOCATION:Atelier Corinne Garcia Marqueterie\, 6, place du Terrail\, 81380 Lescure-d'Albigeois\, France
URL:https://www.fest.fr/e/2272362
UID:2272362-2@fest.fr
END:VEVENT
END:VCALENDAR
