BEGIN:VCALENDAR
CALSCALE:GREGORIAN
VERSION:2.0
METHOD:PUBLISH 
X-WR-CALNAME:
BEGIN:VEVENT
DTSTART;TZID=Europe/Paris:20250928T150000
DTEND;TZID=Europe/Paris:20250928T160000
SUMMARY:Thé Dansant tous les Dimanches au Dancing Lumia
CATEGORIE:Bals et Thés Dansants
GEO:46.07406268688273;6.41253815916899
LOCATION:Lumia\, 94 rue des communaux\, 74130 Bonneville\, France
URL:https://www.fest.fr/e/2272311
UID:2272311-1@fest.fr
END:VEVENT
BEGIN:VEVENT
DTSTART;TZID=Europe/Paris:20251005T150000
DTEND;TZID=Europe/Paris:20251005T160000
SUMMARY:Thé Dansant tous les Dimanches au Dancing Lumia
CATEGORIE:Bals et Thés Dansants
GEO:46.07406268688273;6.41253815916899
LOCATION:Lumia\, 94 rue des communaux\, 74130 Bonneville\, France
URL:https://www.fest.fr/e/2272311
UID:2272311-2@fest.fr
END:VEVENT
BEGIN:VEVENT
DTSTART;TZID=Europe/Paris:20251012T150000
DTEND;TZID=Europe/Paris:20251012T160000
SUMMARY:Thé Dansant tous les Dimanches au Dancing Lumia
CATEGORIE:Bals et Thés Dansants
GEO:46.07406268688273;6.41253815916899
LOCATION:Lumia\, 94 rue des communaux\, 74130 Bonneville\, France
URL:https://www.fest.fr/e/2272311
UID:2272311-3@fest.fr
END:VEVENT
BEGIN:VEVENT
DTSTART;TZID=Europe/Paris:20251019T150000
DTEND;TZID=Europe/Paris:20251019T160000
SUMMARY:Thé Dansant tous les Dimanches au Dancing Lumia
CATEGORIE:Bals et Thés Dansants
GEO:46.07406268688273;6.41253815916899
LOCATION:Lumia\, 94 rue des communaux\, 74130 Bonneville\, France
URL:https://www.fest.fr/e/2272311
UID:2272311-4@fest.fr
END:VEVENT
BEGIN:VEVENT
DTSTART;TZID=Europe/Paris:20251026T150000
DTEND;TZID=Europe/Paris:20251026T160000
SUMMARY:Thé Dansant tous les Dimanches au Dancing Lumia
CATEGORIE:Bals et Thés Dansants
GEO:46.07406268688273;6.41253815916899
LOCATION:Lumia\, 94 rue des communaux\, 74130 Bonneville\, France
URL:https://www.fest.fr/e/2272311
UID:2272311-5@fest.fr
END:VEVENT
BEGIN:VEVENT
DTSTART;TZID=Europe/Paris:20251102T150000
DTEND;TZID=Europe/Paris:20251102T160000
SUMMARY:Thé Dansant tous les Dimanches au Dancing Lumia
CATEGORIE:Bals et Thés Dansants
GEO:46.07406268688273;6.41253815916899
LOCATION:Lumia\, 94 rue des communaux\, 74130 Bonneville\, France
URL:https://www.fest.fr/e/2272311
UID:2272311-6@fest.fr
END:VEVENT
BEGIN:VEVENT
DTSTART;TZID=Europe/Paris:20251109T150000
DTEND;TZID=Europe/Paris:20251109T160000
SUMMARY:Thé Dansant tous les Dimanches au Dancing Lumia
CATEGORIE:Bals et Thés Dansants
GEO:46.07406268688273;6.41253815916899
LOCATION:Lumia\, 94 rue des communaux\, 74130 Bonneville\, France
URL:https://www.fest.fr/e/2272311
UID:2272311-7@fest.fr
END:VEVENT
BEGIN:VEVENT
DTSTART;TZID=Europe/Paris:20251116T150000
DTEND;TZID=Europe/Paris:20251116T160000
SUMMARY:Thé Dansant tous les Dimanches au Dancing Lumia
CATEGORIE:Bals et Thés Dansants
GEO:46.07406268688273;6.41253815916899
LOCATION:Lumia\, 94 rue des communaux\, 74130 Bonneville\, France
URL:https://www.fest.fr/e/2272311
UID:2272311-8@fest.fr
END:VEVENT
BEGIN:VEVENT
DTSTART;TZID=Europe/Paris:20251123T150000
DTEND;TZID=Europe/Paris:20251123T160000
SUMMARY:Thé Dansant tous les Dimanches au Dancing Lumia
CATEGORIE:Bals et Thés Dansants
GEO:46.07406268688273;6.41253815916899
LOCATION:Lumia\, 94 rue des communaux\, 74130 Bonneville\, France
URL:https://www.fest.fr/e/2272311
UID:2272311-9@fest.fr
END:VEVENT
BEGIN:VEVENT
DTSTART;TZID=Europe/Paris:20251130T150000
DTEND;TZID=Europe/Paris:20251130T160000
SUMMARY:Thé Dansant tous les Dimanches au Dancing Lumia
CATEGORIE:Bals et Thés Dansants
GEO:46.07406268688273;6.41253815916899
LOCATION:Lumia\, 94 rue des communaux\, 74130 Bonneville\, France
URL:https://www.fest.fr/e/2272311
UID:2272311-10@fest.fr
END:VEVENT
BEGIN:VEVENT
DTSTART;TZID=Europe/Paris:20251207T150000
DTEND;TZID=Europe/Paris:20251207T160000
SUMMARY:Thé Dansant tous les Dimanches au Dancing Lumia
CATEGORIE:Bals et Thés Dansants
GEO:46.07406268688273;6.41253815916899
LOCATION:Lumia\, 94 rue des communaux\, 74130 Bonneville\, France
URL:https://www.fest.fr/e/2272311
UID:2272311-11@fest.fr
END:VEVENT
BEGIN:VEVENT
DTSTART;TZID=Europe/Paris:20251214T150000
DTEND;TZID=Europe/Paris:20251214T160000
SUMMARY:Thé Dansant tous les Dimanches au Dancing Lumia
CATEGORIE:Bals et Thés Dansants
GEO:46.07406268688273;6.41253815916899
LOCATION:Lumia\, 94 rue des communaux\, 74130 Bonneville\, France
URL:https://www.fest.fr/e/2272311
UID:2272311-12@fest.fr
END:VEVENT
BEGIN:VEVENT
DTSTART;TZID=Europe/Paris:20251221T150000
DTEND;TZID=Europe/Paris:20251221T160000
SUMMARY:Thé Dansant tous les Dimanches au Dancing Lumia
CATEGORIE:Bals et Thés Dansants
GEO:46.07406268688273;6.41253815916899
LOCATION:Lumia\, 94 rue des communaux\, 74130 Bonneville\, France
URL:https://www.fest.fr/e/2272311
UID:2272311-13@fest.fr
END:VEVENT
BEGIN:VEVENT
DTSTART;TZID=Europe/Paris:20251228T150000
DTEND;TZID=Europe/Paris:20251228T160000
SUMMARY:Thé Dansant tous les Dimanches au Dancing Lumia
CATEGORIE:Bals et Thés Dansants
GEO:46.07406268688273;6.41253815916899
LOCATION:Lumia\, 94 rue des communaux\, 74130 Bonneville\, France
URL:https://www.fest.fr/e/2272311
UID:2272311-14@fest.fr
END:VEVENT
BEGIN:VEVENT
DTSTART;TZID=Europe/Paris:20260104T150000
DTEND;TZID=Europe/Paris:20260104T160000
SUMMARY:Thé Dansant tous les Dimanches au Dancing Lumia
CATEGORIE:Bals et Thés Dansants
GEO:46.07406268688273;6.41253815916899
LOCATION:Lumia\, 94 rue des communaux\, 74130 Bonneville\, France
URL:https://www.fest.fr/e/2272311
UID:2272311-15@fest.fr
END:VEVENT
BEGIN:VEVENT
DTSTART;TZID=Europe/Paris:20260111T150000
DTEND;TZID=Europe/Paris:20260111T160000
SUMMARY:Thé Dansant tous les Dimanches au Dancing Lumia
CATEGORIE:Bals et Thés Dansants
GEO:46.07406268688273;6.41253815916899
LOCATION:Lumia\, 94 rue des communaux\, 74130 Bonneville\, France
URL:https://www.fest.fr/e/2272311
UID:2272311-16@fest.fr
END:VEVENT
BEGIN:VEVENT
DTSTART;TZID=Europe/Paris:20260118T150000
DTEND;TZID=Europe/Paris:20260118T160000
SUMMARY:Thé Dansant tous les Dimanches au Dancing Lumia
CATEGORIE:Bals et Thés Dansants
GEO:46.07406268688273;6.41253815916899
LOCATION:Lumia\, 94 rue des communaux\, 74130 Bonneville\, France
URL:https://www.fest.fr/e/2272311
UID:2272311-17@fest.fr
END:VEVENT
BEGIN:VEVENT
DTSTART;TZID=Europe/Paris:20260125T150000
DTEND;TZID=Europe/Paris:20260125T160000
SUMMARY:Thé Dansant tous les Dimanches au Dancing Lumia
CATEGORIE:Bals et Thés Dansants
GEO:46.07406268688273;6.41253815916899
LOCATION:Lumia\, 94 rue des communaux\, 74130 Bonneville\, France
URL:https://www.fest.fr/e/2272311
UID:2272311-18@fest.fr
END:VEVENT
BEGIN:VEVENT
DTSTART;TZID=Europe/Paris:20260201T150000
DTEND;TZID=Europe/Paris:20260201T160000
SUMMARY:Thé Dansant tous les Dimanches au Dancing Lumia
CATEGORIE:Bals et Thés Dansants
GEO:46.07406268688273;6.41253815916899
LOCATION:Lumia\, 94 rue des communaux\, 74130 Bonneville\, France
URL:https://www.fest.fr/e/2272311
UID:2272311-19@fest.fr
END:VEVENT
BEGIN:VEVENT
DTSTART;TZID=Europe/Paris:20260208T150000
DTEND;TZID=Europe/Paris:20260208T160000
SUMMARY:Thé Dansant tous les Dimanches au Dancing Lumia
CATEGORIE:Bals et Thés Dansants
GEO:46.07406268688273;6.41253815916899
LOCATION:Lumia\, 94 rue des communaux\, 74130 Bonneville\, France
URL:https://www.fest.fr/e/2272311
UID:2272311-20@fest.fr
END:VEVENT
BEGIN:VEVENT
DTSTART;TZID=Europe/Paris:20260215T150000
DTEND;TZID=Europe/Paris:20260215T160000
SUMMARY:Thé Dansant tous les Dimanches au Dancing Lumia
CATEGORIE:Bals et Thés Dansants
GEO:46.07406268688273;6.41253815916899
LOCATION:Lumia\, 94 rue des communaux\, 74130 Bonneville\, France
URL:https://www.fest.fr/e/2272311
UID:2272311-21@fest.fr
END:VEVENT
BEGIN:VEVENT
DTSTART;TZID=Europe/Paris:20260222T150000
DTEND;TZID=Europe/Paris:20260222T160000
SUMMARY:Thé Dansant tous les Dimanches au Dancing Lumia
CATEGORIE:Bals et Thés Dansants
GEO:46.07406268688273;6.41253815916899
LOCATION:Lumia\, 94 rue des communaux\, 74130 Bonneville\, France
URL:https://www.fest.fr/e/2272311
UID:2272311-22@fest.fr
END:VEVENT
BEGIN:VEVENT
DTSTART;TZID=Europe/Paris:20260301T150000
DTEND;TZID=Europe/Paris:20260301T160000
SUMMARY:Thé Dansant tous les Dimanches au Dancing Lumia
CATEGORIE:Bals et Thés Dansants
GEO:46.07406268688273;6.41253815916899
LOCATION:Lumia\, 94 rue des communaux\, 74130 Bonneville\, France
URL:https://www.fest.fr/e/2272311
UID:2272311-23@fest.fr
END:VEVENT
BEGIN:VEVENT
DTSTART;TZID=Europe/Paris:20260308T150000
DTEND;TZID=Europe/Paris:20260308T160000
SUMMARY:Thé Dansant tous les Dimanches au Dancing Lumia
CATEGORIE:Bals et Thés Dansants
GEO:46.07406268688273;6.41253815916899
LOCATION:Lumia\, 94 rue des communaux\, 74130 Bonneville\, France
URL:https://www.fest.fr/e/2272311
UID:2272311-24@fest.fr
END:VEVENT
BEGIN:VEVENT
DTSTART;TZID=Europe/Paris:20260315T150000
DTEND;TZID=Europe/Paris:20260315T160000
SUMMARY:Thé Dansant tous les Dimanches au Dancing Lumia
CATEGORIE:Bals et Thés Dansants
GEO:46.07406268688273;6.41253815916899
LOCATION:Lumia\, 94 rue des communaux\, 74130 Bonneville\, France
URL:https://www.fest.fr/e/2272311
UID:2272311-25@fest.fr
END:VEVENT
BEGIN:VEVENT
DTSTART;TZID=Europe/Paris:20260322T150000
DTEND;TZID=Europe/Paris:20260322T160000
SUMMARY:Thé Dansant tous les Dimanches au Dancing Lumia
CATEGORIE:Bals et Thés Dansants
GEO:46.07406268688273;6.41253815916899
LOCATION:Lumia\, 94 rue des communaux\, 74130 Bonneville\, France
URL:https://www.fest.fr/e/2272311
UID:2272311-26@fest.fr
END:VEVENT
BEGIN:VEVENT
DTSTART;TZID=Europe/Paris:20260329T150000
DTEND;TZID=Europe/Paris:20260329T160000
SUMMARY:Thé Dansant tous les Dimanches au Dancing Lumia
CATEGORIE:Bals et Thés Dansants
GEO:46.07406268688273;6.41253815916899
LOCATION:Lumia\, 94 rue des communaux\, 74130 Bonneville\, France
URL:https://www.fest.fr/e/2272311
UID:2272311-27@fest.fr
END:VEVENT
BEGIN:VEVENT
DTSTART;TZID=Europe/Paris:20260405T150000
DTEND;TZID=Europe/Paris:20260405T160000
SUMMARY:Thé Dansant tous les Dimanches au Dancing Lumia
CATEGORIE:Bals et Thés Dansants
GEO:46.07406268688273;6.41253815916899
LOCATION:Lumia\, 94 rue des communaux\, 74130 Bonneville\, France
URL:https://www.fest.fr/e/2272311
UID:2272311-28@fest.fr
END:VEVENT
BEGIN:VEVENT
DTSTART;TZID=Europe/Paris:20260412T150000
DTEND;TZID=Europe/Paris:20260412T160000
SUMMARY:Thé Dansant tous les Dimanches au Dancing Lumia
CATEGORIE:Bals et Thés Dansants
GEO:46.07406268688273;6.41253815916899
LOCATION:Lumia\, 94 rue des communaux\, 74130 Bonneville\, France
URL:https://www.fest.fr/e/2272311
UID:2272311-29@fest.fr
END:VEVENT
END:VCALENDAR
