BEGIN:VCALENDAR
CALSCALE:GREGORIAN
VERSION:2.0
METHOD:PUBLISH 
X-WR-CALNAME:
BEGIN:VEVENT
DTSTART;TZID=Europe/Paris:20270220T200000
DTEND;TZID=Europe/Paris:20270220T210000
SUMMARY:Thomas Marty - Nouveau Spectacle - Tournée
CATEGORIE:Spectacles et théâtre
GEO:44.55547739049800;4.74419102238600
LOCATION:Palais des Congrès Charles Aznavour\, Avenue du 14 juillet 1789\, 26200 Montélimar\, France
URL:https://www.fest.fr/e/2271310
UID:2271310-1@fest.fr
END:VEVENT
END:VCALENDAR
