BEGIN:VCALENDAR
CALSCALE:GREGORIAN
VERSION:2.0
METHOD:PUBLISH 
X-WR-CALNAME:
BEGIN:VEVENT
DTSTART;TZID=Europe/Paris:20260530T203000
DTEND;TZID=Europe/Paris:20260530T213000
SUMMARY:Arth Maël : Cavalcade en Cocazie
CATEGORIE:Concerts et Musique
GEO:48.00791310000000;-2.31868390000000
LOCATION:Centre d'animations culturelles
Rue du Stade\, 56430 Néant-sur-Yvel\, France
URL:https://www.fest.fr/e/2270558
UID:2270558-1@fest.fr
END:VEVENT
END:VCALENDAR
