BEGIN:VCALENDAR
CALSCALE:GREGORIAN
VERSION:2.0
METHOD:PUBLISH 
X-WR-CALNAME:
BEGIN:VEVENT
DTSTART;TZID=Europe/Paris:20260403T203000
DTEND;TZID=Europe/Paris:20260403T213000
SUMMARY:D'Jal - En Pleine Conscience - Tournée
CATEGORIE:Spectacles et théâtre
GEO:43.17927211280300;3.02277199906800
LOCATION:Narbonne Arena\, 74, av. Maître Hubert Mouly\, 11100 Narbonne\, France
URL:https://www.fest.fr/e/2269869
UID:2269869-1@fest.fr
END:VEVENT
END:VCALENDAR
