BEGIN:VCALENDAR
CALSCALE:GREGORIAN
VERSION:2.0
METHOD:PUBLISH 
X-WR-CALNAME:
BEGIN:VEVENT
DTSTART;TZID=Europe/Paris:20260322T180000
DTEND;TZID=Europe/Paris:20260322T190000
SUMMARY:Ange - Quitter la Meute Tour
CATEGORIE:Concerts et musique
GEO:48.38948085223100;-4.48404957142900
LOCATION:Cabaret Vauban\, 17, av. Georges Clémenceau\, 29200 Brest\, France
URL:https://www.fest.fr/e/2269849
UID:2269849-1@fest.fr
END:VEVENT
END:VCALENDAR
