BEGIN:VCALENDAR
CALSCALE:GREGORIAN
VERSION:2.0
METHOD:PUBLISH 
X-WR-CALNAME:
BEGIN:VEVENT
DTSTART;TZID=Europe/Paris:20260605T123456
DTEND;TZID=Europe/Paris:20260605T133456
SUMMARY:Théâtre - Le Festival des Amateurs #12
CATEGORIE:Spectacles et Théâtre
GEO:48.50797000000000;-2.75155000000000
LOCATION:6 Rue de la Tullaye
Théâtre de Poche\, 22000 Saint-Brieuc\, France
URL:https://www.fest.fr/e/2269405
UID:2269405-1@fest.fr
END:VEVENT
END:VCALENDAR
