BEGIN:VCALENDAR
CALSCALE:GREGORIAN
VERSION:2.0
METHOD:PUBLISH 
X-WR-CALNAME:
BEGIN:VEVENT
DTSTART;TZID=Europe/Paris:20260512T143000
DTEND;TZID=Europe/Paris:20260512T153000
SUMMARY:Conférence - La science à la poursuite du crime
CATEGORIE:Conférences, Forums et Débats
GEO:48.06650520000000;1.33253120000000
LOCATION:Salle Léo Lagrange\, 28200 Châteaudun\, France
URL:https://www.fest.fr/e/2269018
UID:2269018-1@fest.fr
END:VEVENT
END:VCALENDAR
