BEGIN:VCALENDAR
CALSCALE:GREGORIAN
VERSION:2.0
METHOD:PUBLISH 
X-WR-CALNAME:
BEGIN:VEVENT
DTSTART;TZID=Europe/Paris:20260306T203000
DTEND;TZID=Europe/Paris:20260306T213000
SUMMARY:Théâtre musical - Orgueil & Préjugés… ou presque
CATEGORIE:Spectacles et Théâtre
GEO:48.63526060000000;-2.05189280000000
LOCATION:2 Boulevard Wilson
Palais des Arts et du Festival
Théâtre Debussy\, 35800 Dinard\, France
URL:https://www.fest.fr/e/2268290
UID:2268290-1@fest.fr
END:VEVENT
END:VCALENDAR
