BEGIN:VCALENDAR
CALSCALE:GREGORIAN
VERSION:2.0
METHOD:PUBLISH 
X-WR-CALNAME:
BEGIN:VEVENT
DTSTART;TZID=Europe/Paris:20260206T123456
DTEND;TZID=Europe/Paris:20260206T133456
SUMMARY:ANNE ROUMANOFF, L'EXPÉRIENCE DE LA VIE
CATEGORIE:Spectacles et Théâtre
GEO:43.31263400000000;3.40856088000000
LOCATION:41 Avenue de Béziers\, 34450 Vias\, France
URL:https://www.fest.fr/e/2261163
UID:2261163-1@fest.fr
END:VEVENT
END:VCALENDAR
