BEGIN:VCALENDAR
CALSCALE:GREGORIAN
VERSION:2.0
METHOD:PUBLISH 
X-WR-CALNAME:
BEGIN:VEVENT
DTSTART;TZID=Europe/Paris:20260411T203000
DTEND;TZID=Europe/Paris:20260411T213000
SUMMARY:Opéra Sans Diva, Acte II
CATEGORIE:Concerts et musique
GEO:48.87582373370200;2.09724201227000
LOCATION:Centre Culturel Jean Vilar\, 44, allée des Epines\, 78160 Marly-le-Roi\, France
URL:https://www.fest.fr/e/2255983
UID:2255983-1@fest.fr
END:VEVENT
END:VCALENDAR
