BEGIN:VCALENDAR
CALSCALE:GREGORIAN
VERSION:2.0
METHOD:PUBLISH 
X-WR-CALNAME:
BEGIN:VEVENT
DTSTART;TZID=Europe/Paris:20260603T103000
DTEND;TZID=Europe/Paris:20260603T113000
SUMMARY:Croq'histoires (dès 3 ans)
CATEGORIE:Littérature
GEO:48.62829130000000;-2.36401220000000
LOCATION:Médiathèque
Rue de la Grande Abbaye\, 22240 Fréhel\, France
URL:https://www.fest.fr/e/2254566
UID:2254566-1@fest.fr
END:VEVENT
END:VCALENDAR
