BEGIN:VCALENDAR
CALSCALE:GREGORIAN
VERSION:2.0
METHOD:PUBLISH 
X-WR-CALNAME:
BEGIN:VEVENT
DTSTART;TZID=Europe/Paris:20260602T200000
DTEND;TZID=Europe/Paris:20260602T210000
SUMMARY:Théâtre : Trop près du mur
CATEGORIE:Spectacles et Théâtre
GEO:48.28851480000000;6.95165970000000
LOCATION:11 rue Saint-Charles
Musée Pierre-Noël\, 88100 Saint-Dié-des-Vosges\, France
URL:https://www.fest.fr/e/2252248
UID:2252248-1@fest.fr
END:VEVENT
END:VCALENDAR
