BEGIN:VCALENDAR
CALSCALE:GREGORIAN
VERSION:2.0
METHOD:PUBLISH 
X-WR-CALNAME:
BEGIN:VEVENT
DTSTART;TZID=Europe/Paris:20260430T183000
DTEND;TZID=Europe/Paris:20260430T193000
SUMMARY:Débat : Informer en zone de guerre
CATEGORIE:Conférences, Forums et Débats
GEO:49.54483930000000;0.19283159000000
LOCATION:Abbaye de Montivilliers\, 76290 Montivilliers\, France
URL:https://www.fest.fr/e/2251500
UID:2251500-1@fest.fr
END:VEVENT
END:VCALENDAR
