BEGIN:VCALENDAR
CALSCALE:GREGORIAN
VERSION:2.0
METHOD:PUBLISH 
X-WR-CALNAME:
BEGIN:VEVENT
DTSTART;TZID=Europe/Paris:20260503T103000
DTEND;TZID=Europe/Paris:20260503T113000
SUMMARY:Spectacle "Immobile & Rebondi #2"
CATEGORIE:Spectacles et Théâtre
GEO:43.32810040000000;-1.03584750000000
LOCATION:Complexe Saint-Louis
Rue Jean Urruty\, 64120 Saint-Palais\, France
URL:https://www.fest.fr/e/2247325
UID:2247325-1@fest.fr
END:VEVENT
END:VCALENDAR
